BEGIN:VCALENDAR
VERSION:2.0
PRODID:-//AL Post 517 - ECPv6.15.20//NONSGML v1.0//EN
CALSCALE:GREGORIAN
METHOD:PUBLISH
X-WR-CALNAME:AL Post 517
X-ORIGINAL-URL:https://al517.org
X-WR-CALDESC:Events for AL Post 517
REFRESH-INTERVAL;VALUE=DURATION:PT1H
X-Robots-Tag:noindex
X-PUBLISHED-TTL:PT1H
BEGIN:VTIMEZONE
TZID:America/Los_Angeles
BEGIN:DAYLIGHT
TZOFFSETFROM:-0800
TZOFFSETTO:-0700
TZNAME:PDT
DTSTART:20240310T100000
END:DAYLIGHT
BEGIN:STANDARD
TZOFFSETFROM:-0700
TZOFFSETTO:-0800
TZNAME:PST
DTSTART:20241103T090000
END:STANDARD
BEGIN:DAYLIGHT
TZOFFSETFROM:-0800
TZOFFSETTO:-0700
TZNAME:PDT
DTSTART:20250309T100000
END:DAYLIGHT
BEGIN:STANDARD
TZOFFSETFROM:-0700
TZOFFSETTO:-0800
TZNAME:PST
DTSTART:20251102T090000
END:STANDARD
BEGIN:DAYLIGHT
TZOFFSETFROM:-0800
TZOFFSETTO:-0700
TZNAME:PDT
DTSTART:20260308T100000
END:DAYLIGHT
BEGIN:STANDARD
TZOFFSETFROM:-0700
TZOFFSETTO:-0800
TZNAME:PST
DTSTART:20261101T090000
END:STANDARD
END:VTIMEZONE
BEGIN:VEVENT
DTSTART;TZID=America/Los_Angeles:20250416T123000
DTEND;TZID=America/Los_Angeles:20250416T140000
DTSTAMP:20260421T095728
CREATED:20250203T212253Z
LAST-MODIFIED:20250203T212253Z
UID:774-1744806600-1744812000@al517.org
SUMMARY:April Lunch 2025
DESCRIPTION:Next Lunch:\nWednesday\, April 16th\nLafayette Veterans Memorial Building
URL:https://al517.org/event/april-lunch-2025/
LOCATION:Lafayette Veterans Memorial Building\, 3780 Mt. Diablo Blvd.\, Lafayette\, CA\, 94549
END:VEVENT
END:VCALENDAR