BEGIN:VCALENDAR
VERSION:2.0
PRODID:-//AL Post 517 - ECPv6.15.20//NONSGML v1.0//EN
CALSCALE:GREGORIAN
METHOD:PUBLISH
X-WR-CALNAME:AL Post 517
X-ORIGINAL-URL:https://al517.org
X-WR-CALDESC:Events for AL Post 517
REFRESH-INTERVAL;VALUE=DURATION:PT1H
X-Robots-Tag:noindex
X-PUBLISHED-TTL:PT1H
BEGIN:VTIMEZONE
TZID:America/Los_Angeles
BEGIN:DAYLIGHT
TZOFFSETFROM:-0800
TZOFFSETTO:-0700
TZNAME:PDT
DTSTART:20230312T100000
END:DAYLIGHT
BEGIN:STANDARD
TZOFFSETFROM:-0700
TZOFFSETTO:-0800
TZNAME:PST
DTSTART:20231105T090000
END:STANDARD
BEGIN:DAYLIGHT
TZOFFSETFROM:-0800
TZOFFSETTO:-0700
TZNAME:PDT
DTSTART:20240310T100000
END:DAYLIGHT
BEGIN:STANDARD
TZOFFSETFROM:-0700
TZOFFSETTO:-0800
TZNAME:PST
DTSTART:20241103T090000
END:STANDARD
BEGIN:DAYLIGHT
TZOFFSETFROM:-0800
TZOFFSETTO:-0700
TZNAME:PDT
DTSTART:20250309T100000
END:DAYLIGHT
BEGIN:STANDARD
TZOFFSETFROM:-0700
TZOFFSETTO:-0800
TZNAME:PST
DTSTART:20251102T090000
END:STANDARD
END:VTIMEZONE
BEGIN:VEVENT
DTSTART;TZID=America/Los_Angeles:20240822T114500
DTEND;TZID=America/Los_Angeles:20240822T143000
DTSTAMP:20260421T113734
CREATED:20240806T230312Z
LAST-MODIFIED:20240806T230647Z
UID:702-1724327100-1724337000@al517.org
SUMMARY:August Lunch
DESCRIPTION:Join Us for a Summer Luncheon\n\nTHURSDAY\, August 22nd\nLafayette Veterans Memorial Building\nFellow Legionnaires\,\nPlease join us on Thursday\, August 22nc for lunch and good conversation. \nRSVP Cutoff: Monday Augustth at 5pm\nRSVP to our dinner/lunch line: 925-283-1153 \n \nLunch will be on Thursday\, August 22nd\nSocial Time: 11:45am\nLunch will be served at 12:30pm.\nRSVP due by 5pm on Monday\, August 19th\nMenu: Summer Sandwiches\, Salads and a dessert  – all for $15 a person\, $10 for students or $25 per couple!!! \nRSVP to our dinner/lunch line: 925-283-1153 or email us at: Lafpost517@gmail.com. \nDownload PDF Flier \n  \nSpecial Notes: \nAfter more than a decade\, your annual dues have increased from $40 to $50\, we appreciate those that have already paid.\n \nNote that in September we will be hosting our 2024 Boys and Girls Delegates for DINNER on September 26th at 5pm. \nHope to see you for lunch! \nThank you\, \nMike Gilson\nCommander
URL:https://al517.org/event/august-2024-lunch/
LOCATION:Lafayette Veterans Memorial Building\, 3780 Mt. Diablo Blvd.\, Lafayette\, CA\, 94549
END:VEVENT
END:VCALENDAR