BEGIN:VCALENDAR
VERSION:2.0
PRODID:-//AL Post 517 - ECPv6.15.20//NONSGML v1.0//EN
CALSCALE:GREGORIAN
METHOD:PUBLISH
X-WR-CALNAME:AL Post 517
X-ORIGINAL-URL:https://al517.org
X-WR-CALDESC:Events for AL Post 517
REFRESH-INTERVAL;VALUE=DURATION:PT1H
X-Robots-Tag:noindex
X-PUBLISHED-TTL:PT1H
BEGIN:VTIMEZONE
TZID:America/Los_Angeles
BEGIN:DAYLIGHT
TZOFFSETFROM:-0800
TZOFFSETTO:-0700
TZNAME:PDT
DTSTART:20240310T100000
END:DAYLIGHT
BEGIN:STANDARD
TZOFFSETFROM:-0700
TZOFFSETTO:-0800
TZNAME:PST
DTSTART:20241103T090000
END:STANDARD
BEGIN:DAYLIGHT
TZOFFSETFROM:-0800
TZOFFSETTO:-0700
TZNAME:PDT
DTSTART:20250309T100000
END:DAYLIGHT
BEGIN:STANDARD
TZOFFSETFROM:-0700
TZOFFSETTO:-0800
TZNAME:PST
DTSTART:20251102T090000
END:STANDARD
BEGIN:DAYLIGHT
TZOFFSETFROM:-0800
TZOFFSETTO:-0700
TZNAME:PDT
DTSTART:20260308T100000
END:DAYLIGHT
BEGIN:STANDARD
TZOFFSETFROM:-0700
TZOFFSETTO:-0800
TZNAME:PST
DTSTART:20261101T090000
END:STANDARD
END:VTIMEZONE
BEGIN:VEVENT
DTSTART;TZID=America/Los_Angeles:20250219T123000
DTEND;TZID=America/Los_Angeles:20250219T140000
DTSTAMP:20260421T095656
CREATED:20250203T212034Z
LAST-MODIFIED:20250203T212328Z
UID:770-1739968200-1739973600@al517.org
SUMMARY:February Lunch 2025
DESCRIPTION:Next Lunch:\nWednesday\, February 19th\nLafayette Veterans Memorial Building\nFellow Legionnaires\,\nPlease join us on Wednesday\, February 19th. \nSocial Time: 11:45am\nLunch will be served at 12:30pm: Pizza\, Salad and Garlic Rolls\nRSVP due by 5pm on Monday\, February 17th \nWe will have a guest speaker soliciting input on the new Contra Costa Transportation Plan\n\nRSVP to our dinner/lunch line: 925-283-1153 as the old number is no longer in use \nDownload PDF Flier \nNews and Notes: \n\nNext Lunch: Wednesday\, March 19th: Expect Corned Beef\n\nApril Lunch: Wednesday\, April 16th\n\nWe are very eager to welcome new members\, so spread the word! \nLate Breaking News: \nPost 517 will be able to support Boys & Girls State due to the generosity of a donor and Post 246! \nMike Gilson\nCommander
URL:https://al517.org/event/february-lunch-2025/
LOCATION:Lafayette Veterans Memorial Building\, 3780 Mt. Diablo Blvd.\, Lafayette\, CA\, 94549
END:VEVENT
END:VCALENDAR