BEGIN:VCALENDAR
VERSION:2.0
PRODID:-//AL Post 517 - ECPv6.15.20//NONSGML v1.0//EN
CALSCALE:GREGORIAN
METHOD:PUBLISH
X-WR-CALNAME:AL Post 517
X-ORIGINAL-URL:https://al517.org
X-WR-CALDESC:Events for AL Post 517
REFRESH-INTERVAL;VALUE=DURATION:PT1H
X-Robots-Tag:noindex
X-PUBLISHED-TTL:PT1H
BEGIN:VTIMEZONE
TZID:America/Los_Angeles
BEGIN:DAYLIGHT
TZOFFSETFROM:-0800
TZOFFSETTO:-0700
TZNAME:PDT
DTSTART:20180311T100000
END:DAYLIGHT
BEGIN:STANDARD
TZOFFSETFROM:-0700
TZOFFSETTO:-0800
TZNAME:PST
DTSTART:20181104T090000
END:STANDARD
BEGIN:DAYLIGHT
TZOFFSETFROM:-0800
TZOFFSETTO:-0700
TZNAME:PDT
DTSTART:20190310T100000
END:DAYLIGHT
BEGIN:STANDARD
TZOFFSETFROM:-0700
TZOFFSETTO:-0800
TZNAME:PST
DTSTART:20191103T090000
END:STANDARD
BEGIN:DAYLIGHT
TZOFFSETFROM:-0800
TZOFFSETTO:-0700
TZNAME:PDT
DTSTART:20200308T100000
END:DAYLIGHT
BEGIN:STANDARD
TZOFFSETFROM:-0700
TZOFFSETTO:-0800
TZNAME:PST
DTSTART:20201101T090000
END:STANDARD
END:VTIMEZONE
BEGIN:VEVENT
DTSTART;TZID=America/Los_Angeles:20190904T173000
DTEND;TZID=America/Los_Angeles:20190904T193000
DTSTAMP:20260421T165744
CREATED:20190104T140044Z
LAST-MODIFIED:20190828T220247Z
UID:325-1567618200-1567625400@al517.org
SUMMARY:General Dinner Meeting - September
DESCRIPTION:Dinner Menu: \nFlank Steak with Roasted Corn Salsa\nSmoked Cheddar Mac n Cheese\, Mixed salad greens with blueberries\, nectarines\, sunflower seeds\, avocados and poppy seed dressing\, Corn Bread\, Dessert \nCall a member that may need a ride to the meeting. \nSpeakers: Boys &  Girls State Representatives \nTo Post Everlasting: Albert Kaljian (14 \n$15/plate\, $25/couple \nRSVP BY NOON on Monday\, September 2 to 925-284-2201
URL:https://al517.org/event/general-dinner-meeting-sept-2019/
LOCATION:Lafayette Veterans Memorial Building\, 3780 Mt. Diablo Blvd.\, Lafayette\, CA\, 94549
END:VEVENT
END:VCALENDAR