BEGIN:VCALENDAR
VERSION:2.0
PRODID:-//AL Post 517 - ECPv6.15.20//NONSGML v1.0//EN
CALSCALE:GREGORIAN
METHOD:PUBLISH
X-WR-CALNAME:AL Post 517
X-ORIGINAL-URL:https://al517.org
X-WR-CALDESC:Events for AL Post 517
REFRESH-INTERVAL;VALUE=DURATION:PT1H
X-Robots-Tag:noindex
X-PUBLISHED-TTL:PT1H
BEGIN:VTIMEZONE
TZID:America/Los_Angeles
BEGIN:DAYLIGHT
TZOFFSETFROM:-0800
TZOFFSETTO:-0700
TZNAME:PDT
DTSTART:20210314T100000
END:DAYLIGHT
BEGIN:STANDARD
TZOFFSETFROM:-0700
TZOFFSETTO:-0800
TZNAME:PST
DTSTART:20211107T090000
END:STANDARD
BEGIN:DAYLIGHT
TZOFFSETFROM:-0800
TZOFFSETTO:-0700
TZNAME:PDT
DTSTART:20220313T100000
END:DAYLIGHT
BEGIN:STANDARD
TZOFFSETFROM:-0700
TZOFFSETTO:-0800
TZNAME:PST
DTSTART:20221106T090000
END:STANDARD
BEGIN:DAYLIGHT
TZOFFSETFROM:-0800
TZOFFSETTO:-0700
TZNAME:PDT
DTSTART:20230312T100000
END:DAYLIGHT
BEGIN:STANDARD
TZOFFSETFROM:-0700
TZOFFSETTO:-0800
TZNAME:PST
DTSTART:20231105T090000
END:STANDARD
END:VTIMEZONE
BEGIN:VEVENT
DTSTART;TZID=America/Los_Angeles:20221215T114500
DTEND;TZID=America/Los_Angeles:20221215T140000
DTSTAMP:20260421T142942
CREATED:20221130T140439Z
LAST-MODIFIED:20221130T141922Z
UID:546-1671104700-1671112800@al517.org
SUMMARY:Holiday Luncheon
DESCRIPTION:A Very Special Holiday Luncheon\nThursday\, December 15th\nLafayette Veterans Building\nPlease join us on Thursday\, December 15th when we will celebrate the upcoming holidays with our fellow Veterans and enjoy some music from Dan the Piano Man. \nLunch will be on Thursday\, December 15th\nSocial Time: 11:45am\nLunch will be served at 12:30pm\nRSVP due by 12 Noon on Monday\, December 12th. \nRSVP to our new dinner/lunch line: 925-283-1153 as the old number is no longer in use or email us at: Lafpost517@gmail.com.
URL:https://al517.org/event/holiday-luncheon-2022/
LOCATION:Lafayette Veterans Memorial Building\, 3780 Mt. Diablo Blvd.\, Lafayette\, CA\, 94549
END:VEVENT
END:VCALENDAR