BEGIN:VCALENDAR
VERSION:2.0
PRODID:-//AL Post 517 - ECPv6.15.20//NONSGML v1.0//EN
CALSCALE:GREGORIAN
METHOD:PUBLISH
X-WR-CALNAME:AL Post 517
X-ORIGINAL-URL:https://al517.org
X-WR-CALDESC:Events for AL Post 517
REFRESH-INTERVAL;VALUE=DURATION:PT1H
X-Robots-Tag:noindex
X-PUBLISHED-TTL:PT1H
BEGIN:VTIMEZONE
TZID:America/Los_Angeles
BEGIN:DAYLIGHT
TZOFFSETFROM:-0800
TZOFFSETTO:-0700
TZNAME:PDT
DTSTART:20240310T100000
END:DAYLIGHT
BEGIN:STANDARD
TZOFFSETFROM:-0700
TZOFFSETTO:-0800
TZNAME:PST
DTSTART:20241103T090000
END:STANDARD
BEGIN:DAYLIGHT
TZOFFSETFROM:-0800
TZOFFSETTO:-0700
TZNAME:PDT
DTSTART:20250309T100000
END:DAYLIGHT
BEGIN:STANDARD
TZOFFSETFROM:-0700
TZOFFSETTO:-0800
TZNAME:PST
DTSTART:20251102T090000
END:STANDARD
BEGIN:DAYLIGHT
TZOFFSETFROM:-0800
TZOFFSETTO:-0700
TZNAME:PDT
DTSTART:20260308T100000
END:DAYLIGHT
BEGIN:STANDARD
TZOFFSETFROM:-0700
TZOFFSETTO:-0800
TZNAME:PST
DTSTART:20261101T090000
END:STANDARD
END:VTIMEZONE
BEGIN:VEVENT
DTSTART;TZID=America/Los_Angeles:20250618T111500
DTEND;TZID=America/Los_Angeles:20250618T140000
DTSTAMP:20260421T100728
CREATED:20250605T222522Z
LAST-MODIFIED:20250605T223055Z
UID:811-1750245300-1750255200@al517.org
SUMMARY:June Lunch 2025
DESCRIPTION:Next Lunch:\nWednesday\, June 18th\nLafayette Veterans Memorial Building\nFellow Legionnaires\,\nPlease join us on Wednesday\, June 18th. \nSocial Time: 11:15am\nLunch will be served at 12:00pm: Our semiannual barbecue feast!\nRSVP due by 5pm on Monday\, June 16th \nWe will have as our guest speaker a representative of the Bay Area Chapter of Honor\nFlight\, which takes Veterans to Washington D.C. free of charge. \nRSVP to our dinner/lunch line: 925-283-1153 as the old number is no longer in use \nDownload PDF Flier \nNews and Notes: \n\nNo lunch for July as we typically take the month off\nNext Lunch – Wednesday the 20th of August\nPlease bring a friend who might consider joining our Post\n\nMike Gilson\nCommander
URL:https://al517.org/event/june-lunch-2025/
END:VEVENT
END:VCALENDAR