BEGIN:VCALENDAR
VERSION:2.0
PRODID:-//AL Post 517 - ECPv6.15.20//NONSGML v1.0//EN
CALSCALE:GREGORIAN
METHOD:PUBLISH
X-WR-CALNAME:AL Post 517
X-ORIGINAL-URL:https://al517.org
X-WR-CALDESC:Events for AL Post 517
REFRESH-INTERVAL;VALUE=DURATION:PT1H
X-Robots-Tag:noindex
X-PUBLISHED-TTL:PT1H
BEGIN:VTIMEZONE
TZID:America/Los_Angeles
BEGIN:DAYLIGHT
TZOFFSETFROM:-0800
TZOFFSETTO:-0700
TZNAME:PDT
DTSTART:20230312T100000
END:DAYLIGHT
BEGIN:STANDARD
TZOFFSETFROM:-0700
TZOFFSETTO:-0800
TZNAME:PST
DTSTART:20231105T090000
END:STANDARD
BEGIN:DAYLIGHT
TZOFFSETFROM:-0800
TZOFFSETTO:-0700
TZNAME:PDT
DTSTART:20240310T100000
END:DAYLIGHT
BEGIN:STANDARD
TZOFFSETFROM:-0700
TZOFFSETTO:-0800
TZNAME:PST
DTSTART:20241103T090000
END:STANDARD
BEGIN:DAYLIGHT
TZOFFSETFROM:-0800
TZOFFSETTO:-0700
TZNAME:PDT
DTSTART:20250309T100000
END:DAYLIGHT
BEGIN:STANDARD
TZOFFSETFROM:-0700
TZOFFSETTO:-0800
TZNAME:PST
DTSTART:20251102T090000
END:STANDARD
END:VTIMEZONE
BEGIN:VEVENT
DTSTART;TZID=America/Los_Angeles:20240522T114500
DTEND;TZID=America/Los_Angeles:20240522T140000
DTSTAMP:20260421T113612
CREATED:20240507T155103Z
LAST-MODIFIED:20240507T155125Z
UID:671-1716378300-1716386400@al517.org
SUMMARY:May Lunch
DESCRIPTION:May Lunch\n\nWEDNESDAY\, May 22nd\nLafayette Veterans Memorial Building\nFellow Legionnaires\,\nPlease join us on Wednesday\, May 22nd for lunch and good conversation. \nRSVP Cutoff: Friday May17th at 5pm \nLunch will be on Wednesday\, May 22nd\nSocial Time: 11:45am\nLunch will be served at 12:30pm.\nRSVP due by 5pm on Friday\, May 17th\nMenu: Fried Chicken\, Taters and Dessert – all for $15 a person\, $10 for students or $25 per couple!!! \nRSVP to our dinner/lunch line: 925-283-1153 or email us at: Lafpost517@gmail.com. \nDownload PDF Flier \n 
URL:https://al517.org/event/may-2024-lunch/
LOCATION:Lafayette Veterans Memorial Building\, 3780 Mt. Diablo Blvd.\, Lafayette\, CA\, 94549
END:VEVENT
END:VCALENDAR