BEGIN:VCALENDAR
VERSION:2.0
PRODID:-//AL Post 517 - ECPv6.15.20//NONSGML v1.0//EN
CALSCALE:GREGORIAN
METHOD:PUBLISH
X-WR-CALNAME:AL Post 517
X-ORIGINAL-URL:https://al517.org
X-WR-CALDESC:Events for AL Post 517
REFRESH-INTERVAL;VALUE=DURATION:PT1H
X-Robots-Tag:noindex
X-PUBLISHED-TTL:PT1H
BEGIN:VTIMEZONE
TZID:America/Los_Angeles
BEGIN:DAYLIGHT
TZOFFSETFROM:-0800
TZOFFSETTO:-0700
TZNAME:PDT
DTSTART:20230312T100000
END:DAYLIGHT
BEGIN:STANDARD
TZOFFSETFROM:-0700
TZOFFSETTO:-0800
TZNAME:PST
DTSTART:20231105T090000
END:STANDARD
BEGIN:DAYLIGHT
TZOFFSETFROM:-0800
TZOFFSETTO:-0700
TZNAME:PDT
DTSTART:20240310T100000
END:DAYLIGHT
BEGIN:STANDARD
TZOFFSETFROM:-0700
TZOFFSETTO:-0800
TZNAME:PST
DTSTART:20241103T090000
END:STANDARD
BEGIN:DAYLIGHT
TZOFFSETFROM:-0800
TZOFFSETTO:-0700
TZNAME:PDT
DTSTART:20250309T100000
END:DAYLIGHT
BEGIN:STANDARD
TZOFFSETFROM:-0700
TZOFFSETTO:-0800
TZNAME:PST
DTSTART:20251102T090000
END:STANDARD
END:VTIMEZONE
BEGIN:VEVENT
DTSTART;TZID=America/Los_Angeles:20241024T114500
DTEND;TZID=America/Los_Angeles:20241024T133000
DTSTAMP:20260421T113638
CREATED:20241002T232436Z
LAST-MODIFIED:20241003T003642Z
UID:721-1729770300-1729776600@al517.org
SUMMARY:October Lunch 2024
DESCRIPTION:Join Us for Lunch\n\nTHURSDAY\, October 24th\nLafayette Veterans Memorial Building\nFellow Legionnaires\,\nPlease join us on Thursday\, October 24th for lunch. \nRSVP Cutoff: Monday October 21st at 5pm\nRSVP to our dinner/lunch line: 925-283-1153\n \nLunch will be on Thursday\, October 24th\nSocial Time: 11:45am\nLunch will be served at 12:30pm.\nRSVP due by 5pm on Monday\, October 21st\n\nMenu: Come and be suprised – all for $15 a person\, $10 for students or $25 per couple!!! \nRSVP to our dinner/lunch line: 925-283-1153 or email us at: Lafpost517@gmail.com. \nDownload PDF Flier \n  \nNovember Lunch: Wednesday\, November 20th  – Details in our next newsletter \nDecember Lunch Wednesday\, December 18th – with holiday music \nHope to see you for lunch! \nThank you\,\nMike Gilson\nCommander
URL:https://al517.org/event/october-2024-lunch/
LOCATION:Lafayette Veterans Memorial Building\, 3780 Mt. Diablo Blvd.\, Lafayette\, CA\, 94549
END:VEVENT
END:VCALENDAR