BEGIN:VCALENDAR
VERSION:2.0
PRODID:-//AL Post 517 - ECPv6.15.20//NONSGML v1.0//EN
CALSCALE:GREGORIAN
METHOD:PUBLISH
X-WR-CALNAME:AL Post 517
X-ORIGINAL-URL:https://al517.org
X-WR-CALDESC:Events for AL Post 517
REFRESH-INTERVAL;VALUE=DURATION:PT1H
X-Robots-Tag:noindex
X-PUBLISHED-TTL:PT1H
BEGIN:VTIMEZONE
TZID:America/Los_Angeles
BEGIN:DAYLIGHT
TZOFFSETFROM:-0800
TZOFFSETTO:-0700
TZNAME:PDT
DTSTART:20230312T100000
END:DAYLIGHT
BEGIN:STANDARD
TZOFFSETFROM:-0700
TZOFFSETTO:-0800
TZNAME:PST
DTSTART:20231105T090000
END:STANDARD
BEGIN:DAYLIGHT
TZOFFSETFROM:-0800
TZOFFSETTO:-0700
TZNAME:PDT
DTSTART:20240310T100000
END:DAYLIGHT
BEGIN:STANDARD
TZOFFSETFROM:-0700
TZOFFSETTO:-0800
TZNAME:PST
DTSTART:20241103T090000
END:STANDARD
BEGIN:DAYLIGHT
TZOFFSETFROM:-0800
TZOFFSETTO:-0700
TZNAME:PDT
DTSTART:20250309T100000
END:DAYLIGHT
BEGIN:STANDARD
TZOFFSETFROM:-0700
TZOFFSETTO:-0800
TZNAME:PST
DTSTART:20251102T090000
END:STANDARD
END:VTIMEZONE
BEGIN:VEVENT
DTSTART;TZID=America/Los_Angeles:20240926T164500
DTEND;TZID=America/Los_Angeles:20240926T190000
DTSTAMP:20260421T113857
CREATED:20240913T162018Z
LAST-MODIFIED:20240913T162104Z
UID:711-1727369100-1727377200@al517.org
SUMMARY:September Dinner
DESCRIPTION:Join Us for our Annual Dinner\n\nTHURSDAY\, September 26th\nLafayette Veterans Memorial Building\nFellow Legionnaires\,\nPlease join us on Thursday\, September 26th where will honor our 2024 Boys and Girls State Delegates. \nRSVP Cutoff: Friay September 20th at 5pm\nRSVP to our dinner/lunch line: 925-283-1153\n \nDinner will be on Thursday\, September 26th\nSocial Time: 4:45pm\nDinner will be served at 5:30pm.\nRSVP due by 5pm on Friday\, September 20th\nMenu: A very special catered dinner –  all for $15 a person\, $10 for students or $25 per couple!!! \nRSVP to our dinner/lunch line: 925-283-1153 or email us at: Lafpost517@gmail.com. \nDownload PDF Flier \n  \nSpecial Notes: \nAfter more than a decade\, your annual dues have increased from $40 to $50\, we appreciate those that have already paid. \nOctober Lunch: Thursday\, October 24th: Details in our next newsletter \nHope to see you for dinner! \nThank you\, \nMike Gilson\nCommander
URL:https://al517.org/event/september-2024-dinner/
LOCATION:Lafayette Veterans Memorial Building\, 3780 Mt. Diablo Blvd.\, Lafayette\, CA\, 94549
END:VEVENT
END:VCALENDAR