BEGIN:VCALENDAR
VERSION:2.0
PRODID:-//AL Post 517 - ECPv6.15.20//NONSGML v1.0//EN
CALSCALE:GREGORIAN
METHOD:PUBLISH
X-WR-CALNAME:AL Post 517
X-ORIGINAL-URL:https://al517.org
X-WR-CALDESC:Events for AL Post 517
REFRESH-INTERVAL;VALUE=DURATION:PT1H
X-Robots-Tag:noindex
X-PUBLISHED-TTL:PT1H
BEGIN:VTIMEZONE
TZID:America/Los_Angeles
BEGIN:DAYLIGHT
TZOFFSETFROM:-0800
TZOFFSETTO:-0700
TZNAME:PDT
DTSTART:20210314T100000
END:DAYLIGHT
BEGIN:STANDARD
TZOFFSETFROM:-0700
TZOFFSETTO:-0800
TZNAME:PST
DTSTART:20211107T090000
END:STANDARD
BEGIN:DAYLIGHT
TZOFFSETFROM:-0800
TZOFFSETTO:-0700
TZNAME:PDT
DTSTART:20220313T100000
END:DAYLIGHT
BEGIN:STANDARD
TZOFFSETFROM:-0700
TZOFFSETTO:-0800
TZNAME:PST
DTSTART:20221106T090000
END:STANDARD
BEGIN:DAYLIGHT
TZOFFSETFROM:-0800
TZOFFSETTO:-0700
TZNAME:PDT
DTSTART:20230312T100000
END:DAYLIGHT
BEGIN:STANDARD
TZOFFSETFROM:-0700
TZOFFSETTO:-0800
TZNAME:PST
DTSTART:20231105T090000
END:STANDARD
END:VTIMEZONE
BEGIN:VEVENT
DTSTART;TZID=America/Los_Angeles:20221108T110000
DTEND;TZID=America/Los_Angeles:20221108T110000
DTSTAMP:20260421T142829
CREATED:20221020T174227Z
LAST-MODIFIED:20221020T174321Z
UID:524-1667905200-1667905200@al517.org
SUMMARY:Veterans Day Celebration
DESCRIPTION:Veterans Day 2022\nBoard of Supervisors Chambers\n1025 Escobar Street\, Martinez\, CA \nKeynote Speaker – Bart Gilbert \nSee full details here.
URL:https://al517.org/event/veterans-day-celebration/
LOCATION:1025 Escobar Street\, 1025 Escobar St.\, Martinez\, CA\, 94553\, United States
END:VEVENT
END:VCALENDAR