BEGIN:VCALENDAR
VERSION:2.0
PRODID:-//AL Post 517 - ECPv6.15.20//NONSGML v1.0//EN
CALSCALE:GREGORIAN
METHOD:PUBLISH
X-WR-CALNAME:AL Post 517
X-ORIGINAL-URL:https://al517.org
X-WR-CALDESC:Events for AL Post 517
REFRESH-INTERVAL;VALUE=DURATION:PT1H
X-Robots-Tag:noindex
X-PUBLISHED-TTL:PT1H
BEGIN:VTIMEZONE
TZID:America/Los_Angeles
BEGIN:DAYLIGHT
TZOFFSETFROM:-0800
TZOFFSETTO:-0700
TZNAME:PDT
DTSTART:20220313T100000
END:DAYLIGHT
BEGIN:STANDARD
TZOFFSETFROM:-0700
TZOFFSETTO:-0800
TZNAME:PST
DTSTART:20221106T090000
END:STANDARD
BEGIN:DAYLIGHT
TZOFFSETFROM:-0800
TZOFFSETTO:-0700
TZNAME:PDT
DTSTART:20230312T100000
END:DAYLIGHT
BEGIN:STANDARD
TZOFFSETFROM:-0700
TZOFFSETTO:-0800
TZNAME:PST
DTSTART:20231105T090000
END:STANDARD
BEGIN:DAYLIGHT
TZOFFSETFROM:-0800
TZOFFSETTO:-0700
TZNAME:PDT
DTSTART:20240310T100000
END:DAYLIGHT
BEGIN:STANDARD
TZOFFSETFROM:-0700
TZOFFSETTO:-0800
TZNAME:PST
DTSTART:20241103T090000
END:STANDARD
END:VTIMEZONE
BEGIN:VEVENT
DTSTART;TZID=America/Los_Angeles:20231216T120000
DTEND;TZID=America/Los_Angeles:20231216T133000
DTSTAMP:20260421T131108
CREATED:20231129T145704Z
LAST-MODIFIED:20231129T145704Z
UID:620-1702728000-1702733400@al517.org
SUMMARY:Wreaths Across America
DESCRIPTION:Join us if you can\, for a very special ceremony known as Wreaths Across America\, at the Lafayette Cemetery – just next door to the Lafayette Park Hotel. This event is an annual event held across America\, sponsored by the Daughters of the American Revolution (DAR). Wreaths will be laid on the more than 200 graves of our fellow Veterans. \n12pm – 1:30pm on December 16th\nLafayette Cemetery: 3285 Mt. Diablo Blvd\, Lafayette
URL:https://al517.org/event/wreaths-across-america/
LOCATION:Lafayette Cemetery
END:VEVENT
END:VCALENDAR