BEGIN:VCALENDAR
VERSION:2.0
PRODID:-//AL Post 517 - ECPv6.15.20//NONSGML v1.0//EN
CALSCALE:GREGORIAN
METHOD:PUBLISH
X-WR-CALNAME:AL Post 517
X-ORIGINAL-URL:https://al517.org
X-WR-CALDESC:Events for AL Post 517
REFRESH-INTERVAL;VALUE=DURATION:PT1H
X-Robots-Tag:noindex
X-PUBLISHED-TTL:PT1H
BEGIN:VTIMEZONE
TZID:America/Los_Angeles
BEGIN:DAYLIGHT
TZOFFSETFROM:-0800
TZOFFSETTO:-0700
TZNAME:PDT
DTSTART:20170312T100000
END:DAYLIGHT
BEGIN:STANDARD
TZOFFSETFROM:-0700
TZOFFSETTO:-0800
TZNAME:PST
DTSTART:20171105T090000
END:STANDARD
BEGIN:DAYLIGHT
TZOFFSETFROM:-0800
TZOFFSETTO:-0700
TZNAME:PDT
DTSTART:20180311T100000
END:DAYLIGHT
BEGIN:STANDARD
TZOFFSETFROM:-0700
TZOFFSETTO:-0800
TZNAME:PST
DTSTART:20181104T090000
END:STANDARD
BEGIN:DAYLIGHT
TZOFFSETFROM:-0800
TZOFFSETTO:-0700
TZNAME:PDT
DTSTART:20190310T100000
END:DAYLIGHT
BEGIN:STANDARD
TZOFFSETFROM:-0700
TZOFFSETTO:-0800
TZNAME:PST
DTSTART:20191103T090000
END:STANDARD
BEGIN:DAYLIGHT
TZOFFSETFROM:-0800
TZOFFSETTO:-0700
TZNAME:PDT
DTSTART:20200308T100000
END:DAYLIGHT
BEGIN:STANDARD
TZOFFSETFROM:-0700
TZOFFSETTO:-0800
TZNAME:PST
DTSTART:20201101T090000
END:STANDARD
BEGIN:DAYLIGHT
TZOFFSETFROM:-0800
TZOFFSETTO:-0700
TZNAME:PDT
DTSTART:20210314T100000
END:DAYLIGHT
BEGIN:STANDARD
TZOFFSETFROM:-0700
TZOFFSETTO:-0800
TZNAME:PST
DTSTART:20211107T090000
END:STANDARD
BEGIN:DAYLIGHT
TZOFFSETFROM:-0800
TZOFFSETTO:-0700
TZNAME:PDT
DTSTART:20220313T100000
END:DAYLIGHT
BEGIN:STANDARD
TZOFFSETFROM:-0700
TZOFFSETTO:-0800
TZNAME:PST
DTSTART:20221106T090000
END:STANDARD
BEGIN:DAYLIGHT
TZOFFSETFROM:-0800
TZOFFSETTO:-0700
TZNAME:PDT
DTSTART:20230312T100000
END:DAYLIGHT
BEGIN:STANDARD
TZOFFSETFROM:-0700
TZOFFSETTO:-0800
TZNAME:PST
DTSTART:20231105T090000
END:STANDARD
END:VTIMEZONE
BEGIN:VEVENT
DTSTART;TZID=America/Los_Angeles:20220804T123000
DTEND;TZID=America/Los_Angeles:20220804T153000
DTSTAMP:20260422T145110
CREATED:20220725T234303Z
LAST-MODIFIED:20220727T235422Z
UID:494-1659616200-1659627000@al517.org
SUMMARY:August 4th Luncheon
DESCRIPTION:Please join us on Thursday\, August 4th for a summer lunch \nLUNCH will be on Thursday\, August 4th.\nThe bar will open at 11:45 and lunch will be served at 12:30.\nThe cost is $15 per person or $25 for a couple\nRSVP due by 5pm on Monday\, August 1st. \nRSVP to our new dinner/lunch line: 925-283-1153 as the old number is no longer in use\nor email us at: Lafpost517@gmail.com. The lunch will be held at the Lafayette Veterans\nBuilding\, 3780 Mt. Diablo Blvd\, Lafayette. \n  \n 
URL:https://al517.org/event/august-4th-2022-luncheon/
LOCATION:Lafayette Veterans Memorial Building\, 3780 Mt. Diablo Blvd.\, Lafayette\, CA\, 94549
END:VEVENT
BEGIN:VEVENT
DTSTART;TZID=America/Los_Angeles:20210901T173000
DTEND;TZID=America/Los_Angeles:20210901T193000
DTSTAMP:20260422T145110
CREATED:20190105T004303Z
LAST-MODIFIED:20210703T141234Z
UID:453-1630517400-1630524600@al517.org
SUMMARY:September Social Hour and Dinner
DESCRIPTION:Join us on Wednesday\, September 1st for Social Hour and Dinner \n  \n 
URL:https://al517.org/event/september-2021-dinner/
LOCATION:Lafayette Veterans Memorial Building\, 3780 Mt. Diablo Blvd.\, Lafayette\, CA\, 94549
END:VEVENT
BEGIN:VEVENT
DTSTART;TZID=America/Los_Angeles:20200307T173000
DTEND;TZID=America/Los_Angeles:20200307T193000
DTSTAMP:20260422T145110
CREATED:20190105T004303Z
LAST-MODIFIED:20200220T021946Z
UID:391-1583602200-1583609400@al517.org
SUMMARY:March Happy Hour
DESCRIPTION:Join us on Friday\, March 7 for Happy Hour! \nRSVP by noon on Monday\, March 2 at noon to 925-284-2201. \n 
URL:https://al517.org/event/march-2020-happy-hour/
LOCATION:Lafayette Veterans Memorial Building\, 3780 Mt. Diablo Blvd.\, Lafayette\, CA\, 94549
END:VEVENT
BEGIN:VEVENT
DTSTART;TZID=America/Los_Angeles:20200305T173000
DTEND;TZID=America/Los_Angeles:20200305T193000
DTSTAMP:20260422T145110
CREATED:20190104T140044Z
LAST-MODIFIED:20200220T021928Z
UID:393-1583429400-1583436600@al517.org
SUMMARY:General Dinner Meeting - March 2020
DESCRIPTION:Dinner Menu: \nCorned Beef\, Cabbage\, Roasted potatoes\, Carrot Raisin salad\, Rolls and butter\, and Dessert \nThe bar will be open at 5:30pm for your enjoyment\, with dinner being served at 6:20pm. Guests and companions are welcome. \nSpeaker: Peter Callahan\, a Vet and Founder of Wells for Life \n$15/plate\, $25/couple \nRSVP BY NOON on Monday\, March 2 to 925-284-2201
URL:https://al517.org/event/general-dinner-meeting-mar-2020/
LOCATION:Lafayette Veterans Memorial Building\, 3780 Mt. Diablo Blvd.\, Lafayette\, CA\, 94549
END:VEVENT
BEGIN:VEVENT
DTSTART;TZID=America/Los_Angeles:20200205T173000
DTEND;TZID=America/Los_Angeles:20200205T193000
DTSTAMP:20260422T145110
CREATED:20190104T140044Z
LAST-MODIFIED:20200130T193149Z
UID:385-1580923800-1580931000@al517.org
SUMMARY:General Dinner Meeting - February 2020
DESCRIPTION:Dinner Menu: \nTri-tip with thyme and gravy\, Mashed potatoes\, Roasted veggies\, Cole slaw\, Rolls and Dessert \nCall a member that may need a ride to the meeting. \nSpeaker: Our February speaker is KCBS reporter\, Bob Butler\, who is a Navy Vet. Bob will talk about his own journey from the Navy to the News. \n$15/plate\, $25/couple \nRSVP BY NOON on Monday\, February 3 to 925-284-2201
URL:https://al517.org/event/general-dinner-meeting-feb-2020/
LOCATION:Lafayette Veterans Memorial Building\, 3780 Mt. Diablo Blvd.\, Lafayette\, CA\, 94549
END:VEVENT
BEGIN:VEVENT
DTSTART;VALUE=DATE:20200202
DTEND;VALUE=DATE:20200203
DTSTAMP:20260422T145110
CREATED:20190105T004303Z
LAST-MODIFIED:20200130T193220Z
UID:375-1580601600-1580687999@al517.org
SUMMARY:February Happy Hour - Super Bowl!
DESCRIPTION:Join us on Friday\, February 2 for Superbowl! \nWill begin 30 minutes before kickoff. \nRSVP by noon on Fri.\, Jan. 31 to 925-284-2201.
URL:https://al517.org/event/february-2020-happy-hour/
LOCATION:Lafayette Veterans Memorial Building\, 3780 Mt. Diablo Blvd.\, Lafayette\, CA\, 94549
END:VEVENT
BEGIN:VEVENT
DTSTART;TZID=America/Los_Angeles:20200117T173000
DTEND;TZID=America/Los_Angeles:20200117T193000
DTSTAMP:20260422T145110
CREATED:20190105T004303Z
LAST-MODIFIED:20200102T154257Z
UID:373-1579282200-1579289400@al517.org
SUMMARY:January Happy Hour
DESCRIPTION:Join us on Friday\, January 17 for Happy Hour! \nRSVP by noon on Thursday\, Jan. 16 at noon to 925-284-2201. \n 
URL:https://al517.org/event/january-2020-happy-hour/
LOCATION:Lafayette Veterans Memorial Building\, 3780 Mt. Diablo Blvd.\, Lafayette\, CA\, 94549
END:VEVENT
BEGIN:VEVENT
DTSTART;TZID=America/Los_Angeles:20200108T173000
DTEND;TZID=America/Los_Angeles:20200108T193000
DTSTAMP:20260422T145110
CREATED:20190104T140044Z
LAST-MODIFIED:20200102T154105Z
UID:371-1578504600-1578511800@al517.org
SUMMARY:General Dinner Meeting - January 2020
DESCRIPTION:Dinner Menu: \nSavory Meatballs\, Creamy Marinara Pasta\, Lemon Roasted Zucchini Planks with Parmesan\, Dill House Green Salad\, French Bread and Butter\, Dessert \nCall a member that may need a ride to the meeting. \nSpeaker: Dr. Michael Baker (Retired Rear Admiral) \n$15/plate\, $25/couple \nRSVP BY NOON on Monday\, January 6 to 925-284-2201
URL:https://al517.org/event/general-dinner-meeting-jan-2020/
LOCATION:Lafayette Veterans Memorial Building\, 3780 Mt. Diablo Blvd.\, Lafayette\, CA\, 94549
END:VEVENT
BEGIN:VEVENT
DTSTART;VALUE=DATE:20191123
DTEND;VALUE=DATE:20191124
DTSTAMP:20260422T145110
CREATED:20191015T235809Z
LAST-MODIFIED:20191015T235809Z
UID:352-1574467200-1574553599@al517.org
SUMMARY:Homemade Chili Fest
DESCRIPTION:Celebrate the Cal-Stanford Great Game with us! The event is now scheduled to start at 1pm\, but check your local listing the week before. Drinks will be special price! \nRSVP by noon on Thursday\, Nov. 21 to 925-284-2201.
URL:https://al517.org/event/homemade-chili-fest/
LOCATION:CA
END:VEVENT
BEGIN:VEVENT
DTSTART;TZID=America/Los_Angeles:20191106T173000
DTEND;TZID=America/Los_Angeles:20191106T193000
DTSTAMP:20260422T145110
CREATED:20190104T140044Z
LAST-MODIFIED:20191017T131550Z
UID:346-1573061400-1573068600@al517.org
SUMMARY:General Dinner Meeting - November
DESCRIPTION:Dinner Menu: \nTurkey Meatballs and Gravy\nPumpkin Swirled Mashed Potatoes\, Butter Orange Zested Green Beans\, Cranberry Apple Salad on Mixed Green Beans with Gorgonzola & Pecan-Maple Vinaigrette\, Bread and Butter\, and Dessert \nCall a member that may need a ride to the meeting. \nSpeakers: District 9 Commander Jeff Roubal \n$15/plate\, $25/couple \nRSVP BY NOON on Monday\, November 4 to 925-284-2201
URL:https://al517.org/event/general-dinner-meeting-nov-2019/
LOCATION:Lafayette Veterans Memorial Building\, 3780 Mt. Diablo Blvd.\, Lafayette\, CA\, 94549
END:VEVENT
BEGIN:VEVENT
DTSTART;TZID=America/Los_Angeles:20191004T173000
DTEND;TZID=America/Los_Angeles:20191004T193000
DTSTAMP:20260422T145110
CREATED:20190105T004303Z
LAST-MODIFIED:20190919T005404Z
UID:340-1570210200-1570217400@al517.org
SUMMARY:First Friday Happy Hour - October
DESCRIPTION:Join us on Friday\, October 4 for First Friday Happy Hour! \nFree pizza\, salad & dessert.Drinks will be a special price! All veterans and significant others are invited. \nRSVP by noon on Thursday\, Oct. 3 to 925-284-2201. \n 
URL:https://al517.org/event/first-friday-happy-hour-oct-4/
LOCATION:Lafayette Veterans Memorial Building\, 3780 Mt. Diablo Blvd.\, Lafayette\, CA\, 94549
END:VEVENT
BEGIN:VEVENT
DTSTART;TZID=America/Los_Angeles:20191002T173000
DTEND;TZID=America/Los_Angeles:20191002T193000
DTSTAMP:20260422T145110
CREATED:20190104T140044Z
LAST-MODIFIED:20190919T005242Z
UID:341-1570037400-1570044600@al517.org
SUMMARY:General Dinner Meeting - October
DESCRIPTION:Dinner Menu: \nBasil Chicken with Sun Dried Tomato Alfredo\nRosemary Roasted Potatoes\, Italian Chopped Salad with Tomatoes\, Olives\, Kidney beans\, Shredded Carrots\, Cucumbers\, Balsamic Vinaigrette\, Parmesan Roasted Broccoli\, French Bread and Butter\, Dessert \nCall a member that may need a ride to the meeting. \nSpeakers: VA Representative \nTo Post Everlasting: James Hardy (31) \n$15/plate\, $25/couple \nRSVP BY NOON on Monday\, September 30 to 925-284-2201
URL:https://al517.org/event/general-dinner-meeting-oct-2019-2/
LOCATION:Lafayette Veterans Memorial Building\, 3780 Mt. Diablo Blvd.\, Lafayette\, CA\, 94549
END:VEVENT
BEGIN:VEVENT
DTSTART;TZID=America/Los_Angeles:20190906T173000
DTEND;TZID=America/Los_Angeles:20190906T193000
DTSTAMP:20260422T145110
CREATED:20190105T004303Z
LAST-MODIFIED:20190828T220536Z
UID:332-1567791000-1567798200@al517.org
SUMMARY:First Friday Happy Hour
DESCRIPTION:Join us on Friday\, September 6 for happy hour bar prices. \nFree pizza\, salad & dessert. Drinks will be a special price! All veterans and significant others are invited. \nRSVP by noon on Thursday\, Sept. 5 to 925-284-2201.
URL:https://al517.org/event/first-friday-happy-hour-sept/
LOCATION:Lafayette Veterans Memorial Building\, 3780 Mt. Diablo Blvd.\, Lafayette\, CA\, 94549
END:VEVENT
BEGIN:VEVENT
DTSTART;TZID=America/Los_Angeles:20190904T173000
DTEND;TZID=America/Los_Angeles:20190904T193000
DTSTAMP:20260422T145110
CREATED:20190104T140044Z
LAST-MODIFIED:20190828T220247Z
UID:325-1567618200-1567625400@al517.org
SUMMARY:General Dinner Meeting - September
DESCRIPTION:Dinner Menu: \nFlank Steak with Roasted Corn Salsa\nSmoked Cheddar Mac n Cheese\, Mixed salad greens with blueberries\, nectarines\, sunflower seeds\, avocados and poppy seed dressing\, Corn Bread\, Dessert \nCall a member that may need a ride to the meeting. \nSpeakers: Boys &  Girls State Representatives \nTo Post Everlasting: Albert Kaljian (14 \n$15/plate\, $25/couple \nRSVP BY NOON on Monday\, September 2 to 925-284-2201
URL:https://al517.org/event/general-dinner-meeting-sept-2019/
LOCATION:Lafayette Veterans Memorial Building\, 3780 Mt. Diablo Blvd.\, Lafayette\, CA\, 94549
END:VEVENT
BEGIN:VEVENT
DTSTART;TZID=America/Los_Angeles:20190904T163000
DTEND;TZID=America/Los_Angeles:20190904T173000
DTSTAMP:20260422T145110
CREATED:20190828T220413Z
LAST-MODIFIED:20190828T220616Z
UID:330-1567614600-1567618200@al517.org
SUMMARY:Post Board Meeting - September
DESCRIPTION:Guests welcome.
URL:https://al517.org/event/post-board-meeting-september/
LOCATION:Lafayette Veterans Memorial Building\, 3780 Mt. Diablo Blvd.\, Lafayette\, CA\, 94549
END:VEVENT
BEGIN:VEVENT
DTSTART;TZID=America/Los_Angeles:20190807T173000
DTEND;TZID=America/Los_Angeles:20190807T193000
DTSTAMP:20260422T145110
CREATED:20190104T140044Z
LAST-MODIFIED:20190710T034006Z
UID:313-1565199000-1565206200@al517.org
SUMMARY:General Dinner Meeting - August
DESCRIPTION:Dinner Menu: \nBBQ Chicken with Peach BBQ Sauce\nPotato Salad with mustard Dill\,  Watermelon Tomato Feta Salad in Spinach Leaves with Toasted Almonds Balsamic Vinaigrette\, Roasted Zucchini with Parmesan\, Baguettes & Butter\, Rolls & Dessert \nSpeaker: TBA \n$15/plate\, $25/couple \nRSVP BY NOON on Monday\, August 5 to 925-284-2201
URL:https://al517.org/event/general-dinner-meeting-august-2019/
LOCATION:Lafayette Veterans Memorial Building\, 3780 Mt. Diablo Blvd.\, Lafayette\, CA\, 94549
END:VEVENT
BEGIN:VEVENT
DTSTART;TZID=America/Los_Angeles:20190802T170000
DTEND;TZID=America/Los_Angeles:20190802T193000
DTSTAMP:20260422T145110
CREATED:20190105T004303Z
LAST-MODIFIED:20190710T033651Z
UID:309-1564765200-1564774200@al517.org
SUMMARY:First Friday Happy Hour
DESCRIPTION:Join us on Friday\, August 2 for happy hour bar prices. \nFree pizza\, salad & dessert.Drinks will be a special price! All veterans and significant others are invited. \nRSVP by noon on Thursday\, August 1 to 925-284-2201.
URL:https://al517.org/event/first-friday-happy-hour-aug/
LOCATION:Lafayette Veterans Memorial Building\, 3780 Mt. Diablo Blvd.\, Lafayette\, CA\, 94549
END:VEVENT
BEGIN:VEVENT
DTSTART;TZID=America/Los_Angeles:20190607T170000
DTEND;TZID=America/Los_Angeles:20190607T193000
DTSTAMP:20260422T145110
CREATED:20190105T004303Z
LAST-MODIFIED:20190710T033729Z
UID:292-1559926800-1559935800@al517.org
SUMMARY:First Friday Happy Hour
DESCRIPTION:Join us on Friday\, June 7 for happy hour bar prices. \nFree pizza\, salad & dessert.Drinks will be a special price! All veterans and significant others are invited. \nRSVP by noon on Thursday\, June 6 to 925-284-2201.
URL:https://al517.org/event/first-friday-happy-hour-june/
LOCATION:Lafayette Veterans Memorial Building\, 3780 Mt. Diablo Blvd.\, Lafayette\, CA\, 94549
END:VEVENT
BEGIN:VEVENT
DTSTART;TZID=America/Los_Angeles:20190605T173000
DTEND;TZID=America/Los_Angeles:20190605T193000
DTSTAMP:20260422T145110
CREATED:20190104T140044Z
LAST-MODIFIED:20190605T012352Z
UID:293-1559755800-1559763000@al517.org
SUMMARY:General Dinner Meeting - June
DESCRIPTION:Dinner Menu: \nBBQ TRI TIPS\nButtered Green beans with dill\, Roasted Potatoes\, Caesar Salad\, Baguettes & Butter\, Dessert\, No garlic \nSpeaker: Stephen Leavell who is a docent from the USS Hornet. The presentation will focus both on the history of the Hornet but also on the ship’s role with Apollo 11 which occurred 50 years ago in July 1969. \n$15/plate\, $25/couple \nRSVP BY NOON on Monday\, June 3 to 925-284-2201
URL:https://al517.org/event/general-dinner-meeting-april-2019-2-2/
LOCATION:Lafayette Veterans Memorial Building\, 3780 Mt. Diablo Blvd.\, Lafayette\, CA\, 94549
END:VEVENT
BEGIN:VEVENT
DTSTART;TZID=America/Los_Angeles:20190503T170000
DTEND;TZID=America/Los_Angeles:20190503T193000
DTSTAMP:20260422T145110
CREATED:20190105T004303Z
LAST-MODIFIED:20190430T184632Z
UID:272-1556902800-1556911800@al517.org
SUMMARY:First Friday Happy Hour
DESCRIPTION:Join us on Friday\, May 3 for happy hour bar prices. \nFree pizza\, salad & dessert.Drinks will be a special price! All veterans and significant others are invited. \nAll veterans and significant others are invited. RSVP by noon on Thursday\, May 2 to 925-284-2201.
URL:https://al517.org/event/first-friday-happy-hour-2-8-2-2/
LOCATION:Lafayette Veterans Memorial Building\, 3780 Mt. Diablo Blvd.\, Lafayette\, CA\, 94549
END:VEVENT
BEGIN:VEVENT
DTSTART;TZID=America/Los_Angeles:20190501T173000
DTEND;TZID=America/Los_Angeles:20190501T193000
DTSTAMP:20260422T145110
CREATED:20190104T140044Z
LAST-MODIFIED:20190430T184525Z
UID:273-1556731800-1556739000@al517.org
SUMMARY:General Dinner Meeting - May
DESCRIPTION:Dinner Menu: \nBasil Chicken with peach BBQ\, Mac N Cheese topped with crispy onions\, Roasted Corn & Zucchini Succatash\, Mixed greens with strawberries\, blueberries\, almonds\, Feta & Poppyseed dressing\, Rolls & Dessert. \nScott Bransford\, Independent Film Maker. \n$15/plate\, $25/couple \nRSVP BY NOON on Monday\, Apr. 29 to 925-284-2201
URL:https://al517.org/event/general-dinner-meeting-april-2019-2/
LOCATION:Lafayette Veterans Memorial Building\, 3780 Mt. Diablo Blvd.\, Lafayette\, CA\, 94549
END:VEVENT
BEGIN:VEVENT
DTSTART;TZID=America/Los_Angeles:20190405T170000
DTEND;TZID=America/Los_Angeles:20190405T193000
DTSTAMP:20260422T145110
CREATED:20190105T004303Z
LAST-MODIFIED:20190328T004446Z
UID:262-1554483600-1554492600@al517.org
SUMMARY:First Friday Happy Hour
DESCRIPTION:Join us on Friday\, April 5 for happy hour bar prices. \nFree pizza\, salad & dessert. Drinks will be a special price! \nAll veterans and significant others are invited. RSVP by noon on Thursday\, Mar. 28 to 925-284-2201.
URL:https://al517.org/event/first-friday-happy-hour-2-8-2/
LOCATION:Lafayette Veterans Memorial Building\, 3780 Mt. Diablo Blvd.\, Lafayette\, CA\, 94549
END:VEVENT
BEGIN:VEVENT
DTSTART;TZID=America/Los_Angeles:20190403T173000
DTEND;TZID=America/Los_Angeles:20190403T193000
DTSTAMP:20260422T145110
CREATED:20190104T140044Z
LAST-MODIFIED:20190328T004509Z
UID:260-1554312600-1554319800@al517.org
SUMMARY:General Dinner Meeting - April
DESCRIPTION:Dinner Menu: \nRoasted Red Pepper Alfredo Pasta with Chicken & Sausage\, Roasted Veggies\, Italian Salad with Cherry Tomatoes\, Kidney Beans\, Cucumbers\, Olives with Pesto Vinaigrette\, French Bread & Butter\, & Dessert. No garlic. \nWe have asked for a representative of the US Coast Guard but no commitment yet. \nRSVP BY NOON on Monday\, Apr. 1 to 925-284-2201
URL:https://al517.org/event/general-dinner-meeting-april-2019/
LOCATION:Lafayette Veterans Memorial Building\, 3780 Mt. Diablo Blvd.\, Lafayette\, CA\, 94549
END:VEVENT
BEGIN:VEVENT
DTSTART;TZID=America/Los_Angeles:20190306T173000
DTEND;TZID=America/Los_Angeles:20190306T193000
DTSTAMP:20260422T145110
CREATED:20190104T140044Z
LAST-MODIFIED:20190328T004532Z
UID:254-1551893400-1551900600@al517.org
SUMMARY:General Dinner Meeting - March
DESCRIPTION:Dinner Menu: \nNo Garlic included.\nRoasted pork with mustard maple sauce\, Roasted potatoes\, Veggies\, Spring salad\, rolls\, and dessert. \nOur speaker will be Wayne White\, one of our WWII members. The subject will be the U.S. Constabulary\, a border security unit formed after the war in Germany.
URL:https://al517.org/event/general-dinner-meeting-march-2019/
LOCATION:Lafayette Veterans Memorial Building\, 3780 Mt. Diablo Blvd.\, Lafayette\, CA\, 94549
END:VEVENT
BEGIN:VEVENT
DTSTART;TZID=America/Los_Angeles:20190208T170000
DTEND;TZID=America/Los_Angeles:20190208T193000
DTSTAMP:20260422T145110
CREATED:20190105T004303Z
LAST-MODIFIED:20190328T004828Z
UID:246-1549645200-1549654200@al517.org
SUMMARY:First Friday Happy Hour
DESCRIPTION:Join us on Friday\, February 8 for happy hour bar prices.
URL:https://al517.org/event/first-friday-happy-hour-2-8/
LOCATION:CA
END:VEVENT
BEGIN:VEVENT
DTSTART;TZID=America/Los_Angeles:20190206T180000
DTEND;TZID=America/Los_Angeles:20190206T193000
DTSTAMP:20260422T145110
CREATED:20190104T140044Z
LAST-MODIFIED:20190328T004848Z
UID:249-1549476000-1549481400@al517.org
SUMMARY:General Dinner Meeting - February
DESCRIPTION:Dinner Menu: \nSticky Chicken\nCoconut Rice\nGreen Sala with Ginger Dressing\nNaan Bread\nDessert
URL:https://al517.org/event/general-dinner-meeting-september-2/
LOCATION:CA
END:VEVENT
BEGIN:VEVENT
DTSTART;TZID=America/Los_Angeles:20190109T180000
DTEND;TZID=America/Los_Angeles:20190109T193000
DTSTAMP:20260422T145110
CREATED:20190104T140044Z
LAST-MODIFIED:20190328T005154Z
UID:213-1547056800-1547062200@al517.org
SUMMARY:General Dinner Meeting - January
DESCRIPTION:Speaker for our January meeting will be Alex Alexander from Support Services for Veterans and Families/Shelter Inc.
URL:https://al517.org/event/general-dinner-meeting-september/
LOCATION:CA
END:VEVENT
BEGIN:VEVENT
DTSTART;TZID=America/Los_Angeles:20190104T170000
DTEND;TZID=America/Los_Angeles:20190104T193000
DTSTAMP:20260422T145110
CREATED:20190105T004303Z
LAST-MODIFIED:20190328T005219Z
UID:233-1546621200-1546630200@al517.org
SUMMARY:First Friday Happy Hour
DESCRIPTION:Free Pizza with salad and happy hour bar prices
URL:https://al517.org/event/first-friday-happy-hour-2/
LOCATION:CA
END:VEVENT
BEGIN:VEVENT
DTSTART;TZID=America/Los_Angeles:20180907T100000
DTEND;TZID=America/Los_Angeles:20180907T123000
DTSTAMP:20260422T145110
CREATED:20180824T013951Z
LAST-MODIFIED:20180824T013951Z
UID:216-1536314400-1536323400@al517.org
SUMMARY:First Friday - September
DESCRIPTION:First Friday Happy Hour for all Vets and spouses – free pizza and salad.  Please join us!
URL:https://al517.org/event/first-friday-september/
LOCATION:CA
END:VEVENT
BEGIN:VEVENT
DTSTART;TZID=America/Los_Angeles:20180803T100000
DTEND;TZID=America/Los_Angeles:20180803T120000
DTSTAMP:20260422T145110
CREATED:20180718T015954Z
LAST-MODIFIED:20180718T015954Z
UID:197-1533290400-1533297600@al517.org
SUMMARY:First Friday - August
DESCRIPTION:Please join us for free pizza and salad and special happy hour beverage prices. All veterans are welcome.  RSVP 284-2201.
URL:https://al517.org/event/first-friday-august/
LOCATION:CA
END:VEVENT
END:VCALENDAR