BEGIN:VCALENDAR
VERSION:2.0
PRODID:-//AL Post 517 - ECPv6.15.20//NONSGML v1.0//EN
CALSCALE:GREGORIAN
METHOD:PUBLISH
X-WR-CALNAME:AL Post 517
X-ORIGINAL-URL:https://al517.org
X-WR-CALDESC:Events for AL Post 517
REFRESH-INTERVAL;VALUE=DURATION:PT1H
X-Robots-Tag:noindex
X-PUBLISHED-TTL:PT1H
BEGIN:VTIMEZONE
TZID:America/Los_Angeles
BEGIN:DAYLIGHT
TZOFFSETFROM:-0800
TZOFFSETTO:-0700
TZNAME:PDT
DTSTART:20220313T100000
END:DAYLIGHT
BEGIN:STANDARD
TZOFFSETFROM:-0700
TZOFFSETTO:-0800
TZNAME:PST
DTSTART:20221106T090000
END:STANDARD
BEGIN:DAYLIGHT
TZOFFSETFROM:-0800
TZOFFSETTO:-0700
TZNAME:PDT
DTSTART:20230312T100000
END:DAYLIGHT
BEGIN:STANDARD
TZOFFSETFROM:-0700
TZOFFSETTO:-0800
TZNAME:PST
DTSTART:20231105T090000
END:STANDARD
BEGIN:DAYLIGHT
TZOFFSETFROM:-0800
TZOFFSETTO:-0700
TZNAME:PDT
DTSTART:20240310T100000
END:DAYLIGHT
BEGIN:STANDARD
TZOFFSETFROM:-0700
TZOFFSETTO:-0800
TZNAME:PST
DTSTART:20241103T090000
END:STANDARD
END:VTIMEZONE
BEGIN:VEVENT
DTSTART;TZID=America/Los_Angeles:20230927T164500
DTEND;TZID=America/Los_Angeles:20230927T193000
DTSTAMP:20260423T031232
CREATED:20230913T134358Z
LAST-MODIFIED:20230913T134358Z
UID:596-1695833100-1695843000@al517.org
SUMMARY:September Dinner
DESCRIPTION:A Very Special Dinner\n\nPlease join us on Wednesday\, September 27th for a very special dinner honoring our four 2023 Boys/Girls State Delegates. \nLunch will be on Wednesday\, September 27th\nSocial Time: 4:45pm\nDinner will be served promptly at 5:30pm \nRSVP due by 5pm on Friday\, September 22nd\n \nMenu: A special catered dinner provided by one of the Veteran’s Buildings favorite caterers. \nRSVP to our new dinner/lunch line: 925-283-1153  or email us at: Lafpost517@gmail.com. \nSpecial Note: \nAs noted in our August newsletter \, we will be hosting our 4 outstanding Boys/Girls State 2023 delegates for dinner\, together with their parents.  We switch from a lunch meeting to dinner for this event so that our wonderful high school delegates can join us. Please make every attempt to join us as this program is a signature event of your Post and these 4 young people are terrific and deserve to be recognized. \nThank you\, \nMike Gilson\nCommander
URL:https://al517.org/event/september-dinner-2023/
LOCATION:Lafayette Veterans Memorial Building\, 3780 Mt. Diablo Blvd.\, Lafayette\, CA\, 94549
END:VEVENT
END:VCALENDAR