BEGIN:VCALENDAR
VERSION:2.0
PRODID:-//AL Post 517 - ECPv6.15.20//NONSGML v1.0//EN
CALSCALE:GREGORIAN
METHOD:PUBLISH
X-WR-CALNAME:AL Post 517
X-ORIGINAL-URL:https://al517.org
X-WR-CALDESC:Events for AL Post 517
REFRESH-INTERVAL;VALUE=DURATION:PT1H
X-Robots-Tag:noindex
X-PUBLISHED-TTL:PT1H
BEGIN:VTIMEZONE
TZID:America/Los_Angeles
BEGIN:DAYLIGHT
TZOFFSETFROM:-0800
TZOFFSETTO:-0700
TZNAME:PDT
DTSTART:20230312T100000
END:DAYLIGHT
BEGIN:STANDARD
TZOFFSETFROM:-0700
TZOFFSETTO:-0800
TZNAME:PST
DTSTART:20231105T090000
END:STANDARD
BEGIN:DAYLIGHT
TZOFFSETFROM:-0800
TZOFFSETTO:-0700
TZNAME:PDT
DTSTART:20240310T100000
END:DAYLIGHT
BEGIN:STANDARD
TZOFFSETFROM:-0700
TZOFFSETTO:-0800
TZNAME:PST
DTSTART:20241103T090000
END:STANDARD
BEGIN:DAYLIGHT
TZOFFSETFROM:-0800
TZOFFSETTO:-0700
TZNAME:PDT
DTSTART:20250309T100000
END:DAYLIGHT
BEGIN:STANDARD
TZOFFSETFROM:-0700
TZOFFSETTO:-0800
TZNAME:PST
DTSTART:20251102T090000
END:STANDARD
END:VTIMEZONE
BEGIN:VEVENT
DTSTART;VALUE=DATE:20241107
DTEND;VALUE=DATE:20241108
DTSTAMP:20260422T054602
CREATED:20241002T233115Z
LAST-MODIFIED:20241026T214029Z
UID:724-1730937600-1731023999@al517.org
SUMMARY:November Lunch 2024
DESCRIPTION:Join Us for Lunch\n\nAnnual Special Veteran’s Day Lunch\nNovember 7th\nRSVP: By Noon on Monday November 4th\nLocation: Merrill Gardens\nAddress: 1010 2nd Street\, Lafayette
URL:https://al517.org/event/november-2024-lunch/
LOCATION:Lafayette Veterans Memorial Building\, 3780 Mt. Diablo Blvd.\, Lafayette\, CA\, 94549
END:VEVENT
BEGIN:VEVENT
DTSTART;TZID=America/Los_Angeles:20241107T123000
DTEND;TZID=America/Los_Angeles:20241107T143000
DTSTAMP:20260422T054602
CREATED:20241026T195531Z
LAST-MODIFIED:20241031T221257Z
UID:737-1730982600-1730989800@al517.org
SUMMARY:Annual Special Veteran's Day Lunch
DESCRIPTION:A Very Special LUNCH\nTHURSDAY\, November 7th\nMerrill Gardens 1010 2nd St. Lafayette\nFellow Legionnaires\, \nPlease join us on Thursday\, November 7th for a very special lunch celebrating Veterans Day\, with our fellow Veterans who reside at Merrill Gardens in Lafayette. Those who attended last year had a great time so plan to join us. \nLunch will be on Thursday\, November 7th.\nLunch will be served promptly at 12 noon.\nRSVP due by 12 noon on Monday\, November 4th\nMenu: A special catered lunch provided by Merrill Gardens \nRSVP to our dinner/lunch line: 925-283-1153 \nPlease be sure to RSVP by Nov. 4th as Merrill Gardens cannot accommodate walk-ins. \nDecember lunch will be on Wednesday\, December 11th with holiday music as is our tradition. \nFinal Note: I am proud to report that your Post has welcomed 9 new members thus far in 2024 – pass the word as “the more\, the merrier.” \nThank you\,\nMike Gilson\nCommander
URL:https://al517.org/event/annual-special-veterans-day-lunch/
LOCATION:Merrill Gardens\, 1010 2nd Street\, Lafayette\, CA\, 94549\, United States
END:VEVENT
END:VCALENDAR