BEGIN:VCALENDAR
VERSION:2.0
PRODID:-//AL Post 517 - ECPv6.15.20//NONSGML v1.0//EN
CALSCALE:GREGORIAN
METHOD:PUBLISH
X-WR-CALNAME:AL Post 517
X-ORIGINAL-URL:https://al517.org
X-WR-CALDESC:Events for AL Post 517
REFRESH-INTERVAL;VALUE=DURATION:PT1H
X-Robots-Tag:noindex
X-PUBLISHED-TTL:PT1H
BEGIN:VTIMEZONE
TZID:America/Los_Angeles
BEGIN:DAYLIGHT
TZOFFSETFROM:-0800
TZOFFSETTO:-0700
TZNAME:PDT
DTSTART:20240310T100000
END:DAYLIGHT
BEGIN:STANDARD
TZOFFSETFROM:-0700
TZOFFSETTO:-0800
TZNAME:PST
DTSTART:20241103T090000
END:STANDARD
BEGIN:DAYLIGHT
TZOFFSETFROM:-0800
TZOFFSETTO:-0700
TZNAME:PDT
DTSTART:20250309T100000
END:DAYLIGHT
BEGIN:STANDARD
TZOFFSETFROM:-0700
TZOFFSETTO:-0800
TZNAME:PST
DTSTART:20251102T090000
END:STANDARD
BEGIN:DAYLIGHT
TZOFFSETFROM:-0800
TZOFFSETTO:-0700
TZNAME:PDT
DTSTART:20260308T100000
END:DAYLIGHT
BEGIN:STANDARD
TZOFFSETFROM:-0700
TZOFFSETTO:-0800
TZNAME:PST
DTSTART:20261101T090000
END:STANDARD
END:VTIMEZONE
BEGIN:VEVENT
DTSTART;TZID=America/Los_Angeles:20250521T114500
DTEND;TZID=America/Los_Angeles:20250521T140000
DTSTAMP:20260421T210856
CREATED:20250507T232105Z
LAST-MODIFIED:20250507T232105Z
UID:799-1747827900-1747836000@al517.org
SUMMARY:May Lunch 2025
DESCRIPTION:Next Lunch:\nWednesday\, May 21st\nLafayette Veterans Memorial Building\nFellow Legionnaires\,\nPlease join us on Wednesday\, May 21st. \nSocial Time: 11:45am\nLunch will be served at 12:30pm: It’s Time for some Chinese Food\nRSVP due by 5pm on Monday\, May 19th \nWe will have as our guest speaker our friend Mark Clifford\, who has just returned from the Philippines where he visited sites that he experienced during the eruption of Mt. Pinatubo. \nRSVP to our dinner/lunch line: 925-283-1153 as the old number is no longer in use \nDownload PDF Flier \nNews and Notes: \n\nJune Lunch: Wednesday\, June 18th when our guest speaker will be from Honor Flight\, San Francisco Bay Area\nPlease bring a friend who might consider joining our Post\n\nMike Gilson\nCommander
URL:https://al517.org/event/may-lunch-2025/
LOCATION:Lafayette Veterans Memorial Building\, 3780 Mt. Diablo Blvd.\, Lafayette\, CA\, 94549
END:VEVENT
END:VCALENDAR