BEGIN:VCALENDAR
VERSION:2.0
PRODID:-//AL Post 517 - ECPv6.15.20//NONSGML v1.0//EN
CALSCALE:GREGORIAN
METHOD:PUBLISH
X-WR-CALNAME:AL Post 517
X-ORIGINAL-URL:https://al517.org
X-WR-CALDESC:Events for AL Post 517
REFRESH-INTERVAL;VALUE=DURATION:PT1H
X-Robots-Tag:noindex
X-PUBLISHED-TTL:PT1H
BEGIN:VTIMEZONE
TZID:America/Los_Angeles
BEGIN:DAYLIGHT
TZOFFSETFROM:-0800
TZOFFSETTO:-0700
TZNAME:PDT
DTSTART:20240310T100000
END:DAYLIGHT
BEGIN:STANDARD
TZOFFSETFROM:-0700
TZOFFSETTO:-0800
TZNAME:PST
DTSTART:20241103T090000
END:STANDARD
BEGIN:DAYLIGHT
TZOFFSETFROM:-0800
TZOFFSETTO:-0700
TZNAME:PDT
DTSTART:20250309T100000
END:DAYLIGHT
BEGIN:STANDARD
TZOFFSETFROM:-0700
TZOFFSETTO:-0800
TZNAME:PST
DTSTART:20251102T090000
END:STANDARD
BEGIN:DAYLIGHT
TZOFFSETFROM:-0800
TZOFFSETTO:-0700
TZNAME:PDT
DTSTART:20260308T100000
END:DAYLIGHT
BEGIN:STANDARD
TZOFFSETFROM:-0700
TZOFFSETTO:-0800
TZNAME:PST
DTSTART:20261101T090000
END:STANDARD
END:VTIMEZONE
BEGIN:VEVENT
DTSTART;TZID=America/Los_Angeles:20250820T000000
DTEND;TZID=America/Los_Angeles:20250820T000000
DTSTAMP:20260421T165327
CREATED:20250812T183944Z
LAST-MODIFIED:20250812T183944Z
UID:824-1755648000-1755648000@al517.org
SUMMARY:August Lunch 2025
DESCRIPTION:Next Lunch:\nWednesday\, August 20th\nLafayette Veterans Memorial Building\nFellow Legionnaires\,\nPlease join us on Wednesday\, June 20th \nSocial Time: 11:15am\nLunch will be served at 12:00pm: Enjoy Mexican Food\nRSVP due by 5pm on Monday\, August 18 18th \nRSVP to our dinner/lunch line: 925-283-1153 as the old number is no longer in use \nDownload PDF Flier \nNews and Notes: \n\nNext is Dinner – Thursday the 25th of September (Tentative)\nPlease bring a friend who might consider joining our Post\n\nMike Gilson\nCommander
URL:https://al517.org/event/august-lunch-2025/
LOCATION:CA
END:VEVENT
END:VCALENDAR