BEGIN:VCALENDAR
VERSION:2.0
PRODID:-//AL Post 517 - ECPv6.15.20//NONSGML v1.0//EN
CALSCALE:GREGORIAN
METHOD:PUBLISH
X-WR-CALNAME:AL Post 517
X-ORIGINAL-URL:https://al517.org
X-WR-CALDESC:Events for AL Post 517
REFRESH-INTERVAL;VALUE=DURATION:PT1H
X-Robots-Tag:noindex
X-PUBLISHED-TTL:PT1H
BEGIN:VTIMEZONE
TZID:America/Los_Angeles
BEGIN:DAYLIGHT
TZOFFSETFROM:-0800
TZOFFSETTO:-0700
TZNAME:PDT
DTSTART:20240310T100000
END:DAYLIGHT
BEGIN:STANDARD
TZOFFSETFROM:-0700
TZOFFSETTO:-0800
TZNAME:PST
DTSTART:20241103T090000
END:STANDARD
BEGIN:DAYLIGHT
TZOFFSETFROM:-0800
TZOFFSETTO:-0700
TZNAME:PDT
DTSTART:20250309T100000
END:DAYLIGHT
BEGIN:STANDARD
TZOFFSETFROM:-0700
TZOFFSETTO:-0800
TZNAME:PST
DTSTART:20251102T090000
END:STANDARD
BEGIN:DAYLIGHT
TZOFFSETFROM:-0800
TZOFFSETTO:-0700
TZNAME:PDT
DTSTART:20260308T100000
END:DAYLIGHT
BEGIN:STANDARD
TZOFFSETFROM:-0700
TZOFFSETTO:-0800
TZNAME:PST
DTSTART:20261101T090000
END:STANDARD
END:VTIMEZONE
BEGIN:VEVENT
DTSTART;TZID=America/Los_Angeles:20250925T170000
DTEND;TZID=America/Los_Angeles:20250925T190000
DTSTAMP:20260421T153357
CREATED:20250831T143113Z
LAST-MODIFIED:20250831T143123Z
UID:831-1758819600-1758826800@al517.org
SUMMARY:September Dinner 2025
DESCRIPTION:A Very Special Dinner\nThursday\, September 25th\nLafayette Veterans Memorial Building\nFellow Legionnaires\, \nPlease join us for Dinner on Thursday September 25th when we will honor our 2025 Boys & Girls State Delegates. Please bring your wife or significant other. \nSocial Time: 5:00pm\nDinner will be served promptly at 5:30pm\nAdjournment no later than 7pm\nRSVP due by 5pm on Saturday September 20th \nRSVP to our dinner/lunch line: 925-283-1153 as the old number is no longer in use \nDownload PDF Flier \nNews and Notes: \n\nPlease make every effort to join us for dinner as we will host our outstanding delegates and their families.\n\nNext Lunch: Thursday October 30th \nHave a friend/fellow Veteran who might be interested in Post 517 – bring them to meet us? \nMike Gilson\nCommander
URL:https://al517.org/event/september-dinner-2025/
LOCATION:Lafayette Veterans Memorial Building\, 3780 Mt. Diablo Blvd.\, Lafayette\, CA\, 94549
END:VEVENT
END:VCALENDAR